{"text_format":"1","workbook":"xlsx","n_sheets":18,"sheets":["Title Page ","Graph - Electrical Output Black","Graph - Electrical Output White","Graph - Total Capacity Black","Graph - Total Capacity","Graph - World Electrical Output","X-curve","Capacity (GW)","Generation (TWh)","Nuclear","Nuclear Uprates","Wind","PV","Hydro","Geothermal","Biomass & Waste","Cogeneration (CHP)","CHP Source Data 2010–2016"],"not_rendered":{"charts":14,"images":1,"macros":1,"external_links":1,"defined_names":0,"comments":0,"pivot_tables":0},"unopened":[{"sheet":"Graph - Electrical Output Black","index":1,"reason":"not_a_worksheet"},{"sheet":"Graph - Electrical Output White","index":2,"reason":"not_a_worksheet"},{"sheet":"Graph - Total Capacity Black","index":3,"reason":"not_a_worksheet"},{"sheet":"Graph - Total Capacity","index":4,"reason":"not_a_worksheet"},{"sheet":"Graph - World Electrical Output","index":5,"reason":"not_a_worksheet"},{"sheet":"X-curve","index":6,"reason":"not_a_worksheet"}],"bounds":{"document_bytes":16777216,"sheet_cells":100000,"rows_first":2000,"rows_last":500,"rows_between":2000,"halvings":0,"cell_chars":16384,"cell_head_chars":4096},"cells_cut":0,"cells_raw":0,"read":"whole","date_system":"1900"}

{"sheet":"Title Page ","index":0,"n_rows":30,"n_cols":7,"rows_kept":30,"cut":false,"hidden":false,"merged":[[3,1,3,8],[4,2,7,7],[8,3,8,6]]}
[]
[]
[]
[null,"Micropower Database 2017 Release"]
[null,null,"This database aggregates global generation and capacity data for micropower and nuclear sources. “Micropower” is used to refer to sources of electricity that are relatively small, modular, mass-producible, quick-to-deploy, and hence rapidly scalable; for the purposes of this database, this includes renewables other than large hydroelectric dams (“large hydro” is defined as greater than 50 MW) as well as cogeneration of electricity together with useful heat in factories or buildings. "]
[]
[]
[]
[null,null,null,"For an explanation of the methodology, please consult \"Micropower Methodology (August 2017).doc\"."]
[null,null,null,"Date modified ","2013-08-15"]
[]
[null,null,null,"Contact","Emily Goldfield","Ryan Laemel","Amory Lovins"]
[null,null,null,null,"egoldfield@rmi.org","rlaemel@rmi.org","ablovins@rmi.org"]
[]
[null,null,null,"Contents"]
[null,null,null,null,"Annual capacity data for micropower sources and nuclear "]
[null,null,null,null,"Annual generation data for micropower sources and nuclear"]
[null,null,null,null,"Annual capacity and generation data for:"]
[null,null,null,null,"Nuclear"]
[null,null,null,null,"Wind"]
[null,null,null,null,"Solar PV"]
[null,null,null,null,"Hydro"]
[null,null,null,null,"Geothermal"]
[null,null,null,null,"Biomass and waste"]
[null,null,null,null,"Cogeneration"]
[]
[null,null,null,null,"Rocky Mountain Institute"]
[null,null,null,null,"22830 Two Rivers Road"]
[null,null,null,null,"Basalt CO 81621 USA"]
[null,null,null,null," +1 (970) 930 5750"]

{"sheet":"Capacity (GW)","index":7,"n_rows":47,"n_cols":15,"rows_kept":47,"cut":false,"hidden":false,"merged":[[4,14,5,14],[3,13,3,14],[46,3,46,8],[39,1,39,2],[41,1,41,2],[43,1,43,2],[45,1,45,2]]}
[]
[null,"Installed capacity (GW)"]
[null,"For sources and calculations, please see respective spreadsheets."]
[null,null,null,null,null,null,null,null,null,null,null,null,null,"Verification of our findings with BNEF"]
[null,null,"Nuclear ","Wind","Small Hydro","Biomass & Waste","Photovoltaic","Geothermal","Renewables excl. big hydro ","Non-biomass Cogeneration","Micropower","Capacity factor",null,"Capacity additions Renewables excl. big hydro","Ratio RMI/BNEF"]
[null,"source","(IAEA PRIS)","(GWEC)","(BNEF)","(BNEF)","(EPIA)","(BNEF)","n/a","(DGTW)","n/a","n/a",null,"(BNEF)"]
[null,1990,{"$f":"Nuclear!G10/1000","v":318.25299999999999},{"$f":"Wind!D10/1000","v":1.7430000000000001},null,null,{"$f":"PV!F10/1000","v":0.26800000000000002}]
[null,1991,{"$f":"Nuclear!G11/1000","v":321.92399999999998},{"$f":"Wind!D11/1000","v":1.9830000000000001},null,null,{"$f":"PV!F11/1000","v":0.31806719999999999}]
[null,1992,{"$f":"Nuclear!G12/1000","v":325.26100000000002},{"$f":"Wind!D12/1000","v":2.3210000000000002},null,null,{"$f":"PV!F12/1000","v":0.37421739999999998}]
[null,1993,{"$f":"Nuclear!G13/1000","v":333.91399999999999},{"$f":"Wind!D13/1000","v":2.8010000000000002},null,null,{"$f":"PV!F13/1000","v":0.43298419999999999}]
[null,1994,{"$f":"Nuclear!G14/1000","v":336.904},{"$f":"Wind!D14/1000","v":3.5310000000000001},null,null,{"$f":"PV!F14/1000","v":0.49643480000000001}]
[null,1995,{"$f":"Nuclear!G15/1000","v":341.387},{"$f":"Wind!D15/1000","v":4.8209999999999997},null,null,{"$f":"PV!F15/1000","v":0.56888539999999999}]
[null,1996,{"$f":"Nuclear!G16/1000","v":347.28100000000001},{"$f":"Wind!D16/1000","v":6.1},null,null,{"$f":"PV!F16/1000","v":0.65110279999999998}]
[null,1997,{"$f":"Nuclear!G17/1000","v":347.88},{"$f":"Wind!D17/1000","v":7.6},null,null,{"$f":"PV!F17/1000","v":0.75428859999999998}]
[null,1998,{"$f":"Nuclear!G18/1000","v":344.9},{"$f":"Wind!D18/1000","v":10.199999999999999},null,null,{"$f":"PV!F18/1000","v":0.89140719999999996}]
[null,1999,{"$f":"Nuclear!G19/1000","v":347.35300000000001},{"$f":"Wind!D19/1000","v":13.6},null,null,{"$f":"PV!F19/1000","v":1.0640436}]
[null,2000,{"$f":"Nuclear!G20/1000","v":349.98399999999998},{"$f":"Wind!D20/1000","v":17.399999999999999},{"$f":"Hydro!D9","v":103.68899999999999},{"$f":"F18","v":39.405999999999999},{"$f":"PV!F20/1000","v":1.288},{"$f":"Geothermal!E8","v":7.7789999999999999},{"$f":"SUM(D17:H17)","v":169.56200000000001},{"$f":"'Cogeneration (CHP)'!G8","v":223.23984557450376},{"$f":"SUM(D17:H17)+J17","v":392.80184557450377},{"$f":"('Generation (TWh)'!K18/8766*1000)/K17","v":0.64961403862022349}]
[null,2001,{"$f":"Nuclear!G21/1000","v":352.71499999999997},{"$f":"Wind!D21/1000","v":23.9},{"$f":"Hydro!D10","v":105.4},{"$f":"'Biomass & Waste'!E9","v":39.405999999999999},{"$f":"PV!F21/1000","v":1.615},{"$f":"Geothermal!E9","v":7.9059999999999997},{"$f":"SUM(D18:H18)","v":178.22700000000003},{"$f":"'Cogeneration (CHP)'!G9","v":236.91731900114058},{"$f":"SUM(D18:H18)+J18","v":415.14431900114062},{"$f":"('Generation (TWh)'!K19/8766*1000)/K18","v":0.64237462141071344},null,9.7560000000000002,{"$f":"(I18-I17)/N18","v":0.88817138171381926}]
[null,2002,{"$f":"Nuclear!G22/1000","v":357.48099999999999},{"$f":"Wind!D22/1000","v":31.1},{"$f":"Hydro!D11","v":108.026},{"$f":"'Biomass & Waste'!E10","v":41.405000000000001},{"$f":"PV!F22/1000","v":2.069},{"$f":"Geothermal!E10","v":8.1280000000000001},190.72800000000001,{"$f":"'Cogeneration (CHP)'!G10","v":252.93383031773851},443.66183031773852,{"$f":"('Generation (TWh)'!K20/8766*1000)/K19","v":0.63525338096087192},null,11.983000000000001,{"$f":"(I19-I18)/N19","v":1.0432279062004486}]
[null,2003,{"$f":"Nuclear!G23/1000","v":359.827},{"$f":"Wind!D23/1000","v":39.430999999999997},{"$f":"Hydro!D12","v":110.883},{"$f":"'Biomass & Waste'!E11","v":43.491999999999997},{"$f":"PV!F23/1000","v":2.6349999999999998},{"$f":"Geothermal!E11","v":8.2840000000000007},204.72499999999997,{"$f":"'Cogeneration (CHP)'!G11","v":264.40704413433645},469.13204413433641,{"$f":"('Generation (TWh)'!K21/8766*1000)/K20","v":0.63540266573597504},null,13.327999999999999,1.0501950780312093]
[null,2004,{"$f":"Nuclear!G24/1000","v":364.673},{"$f":"Wind!D24/1000","v":47.62},{"$f":"Hydro!D13","v":115.529},{"$f":"'Biomass & Waste'!E12","v":45.084000000000003},{"$f":"PV!F24/1000","v":3.7229999999999999},{"$f":"Geothermal!E12","v":8.2100000000000009},220.16600000000003,{"$f":"'Cogeneration (CHP)'!G12","v":279.59454295093434},499.76054295093434,{"$f":"('Generation (TWh)'!K22/8766*1000)/K21","v":0.6278738223855469},null,15.268000000000001,1.0113308881320446]
[null,2005,{"$f":"Nuclear!G25/1000","v":368.125},{"$f":"Wind!D25/1000","v":59.091000000000001},{"$f":"Hydro!D14","v":120.639},{"$f":"'Biomass & Waste'!E13","v":51.052999999999997},{"$f":"PV!F25/1000","v":5.1120000000000001},{"$f":"Geothermal!E13","v":8.3610000000000007},244.25599999999997,{"$f":"'Cogeneration (CHP)'!G13","v":296.4234580175322},540.67945801753217,{"$f":"('Generation (TWh)'!K23/8766*1000)/K22","v":0.61550100941420638},null,22.585000000000001,1.0666371485499202]
[null,2006,{"$f":"Nuclear!G26/1000","v":369.58100000000002},{"$f":"Wind!D26/1000","v":74.006},{"$f":"Hydro!D15","v":126.45399999999999},{"$f":"'Biomass & Waste'!E14","v":53.826000000000001},{"$f":"PV!F26/1000","v":6.66},{"$f":"Geothermal!E14","v":8.8770000000000007},269.82299999999998,{"$f":"'Cogeneration (CHP)'!G14","v":314.32499999999999},584.14799999999991,{"$f":"('Generation (TWh)'!K24/8766*1000)/K23","v":0.61007356314998107},null,25.681000000000001,0.99556092052490197]
[null,2007,{"$f":"Nuclear!G27/1000","v":371.70699999999999},{"$f":"Wind!D27/1000","v":93.638999999999996},{"$f":"Hydro!D16","v":131.779},{"$f":"'Biomass & Waste'!E15","v":56.345999999999997},{"$f":"PV!F27/1000","v":9.1829999999999998},{"$f":"Geothermal!E15","v":9.2829999999999995},300.23,{"$f":"'Cogeneration (CHP)'!G15","v":338.71477024683327},638.94477024683329,{"$f":"('Generation (TWh)'!K25/8766*1000)/K24","v":0.5973329435022029},null,31.076000000000001,0.97847213283563006]
[null,2008,{"$f":"Nuclear!G28/1000","v":371.55700000000002},{"$f":"Wind!D28/1000","v":120.267},{"$f":"Hydro!D17","v":137.31200000000001},{"$f":"'Biomass & Waste'!E16","v":59.286000000000001},{"$f":"PV!F28/1000","v":15.843999999999999},{"$f":"Geothermal!E16","v":9.4909999999999997},342.2,{"$f":"'Cogeneration (CHP)'!G16","v":362.54908360379932},704.74908360379936,{"$f":"('Generation (TWh)'!K26/8766*1000)/K25","v":0.58476571542487821},null,42.567,0.98597505109591865]
[null,2009,{"$f":"Nuclear!G29/1000","v":370.697},{"$f":"Wind!D29/1000","v":158.864},{"$f":"Hydro!D18","v":142.65199999999999},{"$f":"'Biomass & Waste'!E17","v":64.884},{"$f":"PV!F29/1000","v":23.184999999999999},{"$f":"Geothermal!E17","v":9.7620000000000005},399.34699999999998,{"$f":"'Cogeneration (CHP)'!G17","v":385.21836145007524},784.56536145007522,{"$f":"('Generation (TWh)'!K27/8766*1000)/K26","v":0.56618979004776504},null,58.067999999999998,0.9841392849762346]
[null,2010,{"$f":"Nuclear!G30/1000","v":375.27699999999999},{"$f":"Wind!D30/1000","v":197.68600000000001},{"$f":"Hydro!D19","v":148.84200000000001},{"$f":"'Biomass & Waste'!E18","v":72.289000000000001},{"$f":"PV!F30/1000","v":40.335999999999999},{"$f":"Geothermal!E18","v":10.247999999999999},469.40100000000001,{"$f":"'Cogeneration (CHP)'!G18","v":418.60227484857552},888.00327484857553,{"$f":"('Generation (TWh)'!K28/8766*1000)/K27","v":0.54136882520815277},null,68.984999999999999,1.015496122345438]
[null,2011,{"$f":"Nuclear!G31/1000","v":368.92099999999999},{"$f":"Wind!D31/1000","v":238.035},{"$f":"Hydro!D20","v":153.62},{"$f":"'Biomass & Waste'!E19","v":77.537999999999997},{"$f":"PV!F31/1000","v":70.468999999999994},{"$f":"Geothermal!E19","v":10.26},549.92200000000003,{"$f":"'Cogeneration (CHP)'!G19","v":451.84281154588933},{"$f":"SUM(D28:H28)+J28","v":1001.7648115458894},{"$f":"('Generation (TWh)'!K29/8766*1000)/K28","v":0.52913596895987225},null,80.131,1.0048670302379854]
[null,2012,{"$f":"Nuclear!G32/1000","v":373.26299999999998},{"$f":"Wind!D32/1000","v":282.43},{"$f":"Hydro!D21","v":159.61699999999999},{"$f":"'Biomass & Waste'!E20","v":84.861000000000004},{"$f":"PV!F32/1000","v":100.504},{"$f":"Geothermal!E20","v":10.913},{"$f":"SUM(D29:H29)","v":638.32500000000005},{"$f":"'Cogeneration (CHP)'!G20","v":484.33798708276004},{"$f":"SUM(D29:H29)+J29","v":1122.6629870827601},{"$f":"('Generation (TWh)'!K30/8766*1000)/K29","v":0.51501512641862934},null,91.995999999999995,0.96094395408496047]
[null,2013,{"$f":"Nuclear!G33/1000","v":371.79300000000001},{"$f":"Wind!D33/1000","v":318.10500000000002},{"$f":"Hydro!D22","v":166.911},{"$f":"'Biomass & Waste'!E21","v":92.614000000000004},{"$f":"PV!F33/1000","v":138.85599999999999},{"$f":"Geothermal!E21","v":11.516},{"$f":"SUM(D30:H30)","v":728.00199999999995},{"$f":"'Cogeneration (CHP)'!G21","v":524.965977969699},{"$f":"SUM(D30:H30)+J30","v":1252.9679779696989},{"$f":"('Generation (TWh)'!K31/8766*1000)/K30","v":0.50492305927251324},null,92.647999999999996,{"$f":"(I30-I29)/N30","v":0.96793238925826686}]
[null,2014,{"$f":"Nuclear!G34/1000","v":376.34100000000001},{"$f":"Wind!D34/1000","v":369.553},{"$f":"Hydro!D23","v":171.30699999999999},{"$f":"'Biomass & Waste'!E22","v":98.447000000000003},{"$f":"PV!F34/1000","v":178.39099999999999},{"$f":"Geothermal!E22","v":12.457000000000001},{"$f":"SUM(D31:H31)","v":830.15499999999997},{"$f":"'Cogeneration (CHP)'!G22","v":561.99270429432022},{"$f":"SUM(D31:H31)+J31","v":1392.1477042943202},{"$f":"('Generation (TWh)'!K32/8766*1000)/K31","v":0.49358583640496312},null,105.965,{"$f":"(I31-I30)/N31","v":0.96402585759448889}]
[null,2015,{"$f":"Nuclear!G35/1000","v":382.85500000000002},{"$f":"Wind!D35/1000","v":432.88299999999998},{"$f":"Hydro!D24","v":174.82},{"$f":"'Biomass & Waste'!E23","v":103.271},{"$f":"PV!F35/1000","v":229.9},{"$f":"Geothermal!E23","v":13.209},{"$f":"SUM(D32:H32)","v":954.08299999999986},{"$f":"'Cogeneration (CHP)'!G23","v":600.96835274407033},{"$f":"SUM(D32:H32)+J32","v":1555.0513527440703},{"$f":"('Generation (TWh)'!K33/8766*1000)/K32","v":0.47861460523826105},null,127.904,{"$f":"(I32-I31)/N32","v":0.96891418563922849}]
[null,2016,{"$f":"Nuclear!G36/1000","v":391.11599999999999},{"$f":"Wind!D36/1000","v":486.79},{"$f":"Hydro!D25","v":177.92599999999999},{"$f":"'Biomass & Waste'!E24","v":106.71},{"$f":"PV!F36/1000","v":306.5},{"$f":"Geothermal!E24","v":14.067},{"$f":"SUM(D33:H33)","v":1091.9929999999999},{"$f":"'Cogeneration (CHP)'!G24","v":632.11071939133944},{"$f":"SUM(D33:H33)+J33","v":1724.1037193913394},{"$f":"('Generation (TWh)'!K34/8766*1000)/K33","v":0.46605689886656126},null,137.60499999999999,{"$f":"(I33-I32)/N33","v":1.0022164892264096}]
[]
[]
[null,"Verification: IRENA 2017 capacity",null,466.505,null,109.73099999999999,290.791,12.628,null,"Source: http://www.irena.org/DocumentDownloads/Publications/IRENA_RE_Capacity_Statistics_2017.pdf"]
[null,"Ratio RMI/IRENA",null,{"$f":"(D33/D36)","v":1.0434829208690153},null,{"$f":"(F33/F36)","v":0.97246903792000439},{"$f":"(G33/G36)","v":1.0540216169001104},{"$f":"(H33/H36)","v":1.1139531200506809}]
[]
[null,null,null,"Wind","Small Hydro","Biomass","Photovoltaic","Geothermal","Renewables excl. big hydro "]
[null,"2016 inferred capacity factors",null,{"$f":"'Generation (TWh)'!D34/(D33*8766/1000)","v":0.22486156020561901},{"$f":"'Generation (TWh)'!E34/(E33*8766/1000)","v":0.39476299135595705},{"$f":"'Generation (TWh)'!F34/(F33*8766/1000)","v":0.68308054540342977},{"$f":"'Generation (TWh)'!G34/(G33*8766/1000)","v":0.12395976464953924},{"$f":"'Generation (TWh)'!H34/(H33*8766/1000)","v":0.63254532296718058}]
[null,"weighted capacity factor calc.",null,{"$f":"D40*'Generation (TWh)'!D34","v":215.76130179408889},{"$f":"E40*'Generation (TWh)'!E34","v":243.06014023824159},{"$f":"F40*'Generation (TWh)'!F34","v":436.46600072995426},{"$f":"G40*'Generation (TWh)'!G34","v":41.285108586902446},{"$f":"H40*'Generation (TWh)'!H34","v":49.338535191440087}]
[null,"2016 generation-weighted capacity factor",null,null,null,null,null,null,{"$f":"SUM(D41:H41)/'Generation (TWh)'!I34","v":0.37554788223112801}]
[]
[null,"2016 capacity factors, with wind and PV based on actual in-service date by project*",null,0.34699999999999998,{"$f":"E40","v":0.39476299135595705},{"$f":"F40","v":0.68308054540342977},0.27200000000000002,{"$f":"H40","v":0.63254532296718058},null,"Source: https://www.eia.gov/electricity/monthly/pdf/epm.pdf"]
[null,"weighted capacity factor calc.",null,{"$f":"D44*'Generation (TWh)'!D34","v":332.95673859990387},{"$f":"E44*'Generation (TWh)'!E34","v":243.06014023824159},{"$f":"F44*'Generation (TWh)'!F34","v":436.46600072995426},{"$f":"G44*'Generation (TWh)'!G34","v":90.590277961448237},{"$f":"H44*'Generation (TWh)'!H34","v":49.338535191440087}]
[null,"2016 generation-weighted  capacity factor, with wind and PV based on actual in-service date by project",null,null,null,null,null,null,{"$f":"SUM(D45:H45)/'Generation (TWh)'!I34","v":0.43897038644561615}]
[null,null,null,"*When capacity grows quickly (e.g. >50 percent per year), the generation in that year, divided by the product of the end-of-year capacity times the number of hours per year, substantially understates the capacity factor. To account for this, we have adjusted the capacity factors for   wind to the 2015 average U.S. capacity factor from EIA (Electric Power Monthly, Table 6.7.B), which, as LBNL explains (see Wiser and Bollinger, 2013 and 2014 Wind Technologies Market Reports, p. VII), is net of at least several percentage points' curtailment. For 2015 PV we use the utility-scale U.S. median of 26.4% from LBNL Utility-Scale Solar 2015: An Empirical Analysis of Project Cost, Performance, and Pricing Trends in the United States. All these capacity factors are used only in this box, provided for readers' convenience. Elsewhere, as described in the Methodology file, this database makes no assumptions about global capacity factors, due to lack of reliable data, but simply cites capacity from one data source and output from another."]

{"sheet":"Generation (TWh)","index":8,"n_rows":73,"n_cols":18,"rows_kept":73,"cut":false,"hidden":false,"merged":[[40,6,40,7]]}
[]
[null,"Annual electricity generation (TWh/y)"]
[null,"For sources and calculations, please see respective spreadsheets."]
[]
[null,null,"Nuclear ","Wind","Small Hydro","Biomass","Photovoltaic","Geothermal","Renewables ","Cogeneration","Micropower","Micropower / ","Large Hydro","Worldwide gross generation","Micropower /","Nuclear /","Renewables excl. big hydro /","Total renewables /"]
[null,null,null,null,null,null,null,null,"(excl. big hydro)",null,null,"nuclear ratio",null,null,"total generation","total generation","total generation","total generation"]
[null,"source","(IAEA PRIS)","(BP)","(BNEF * CF)","(BNEF * CF)","(BP)","(BNEF * CF, REN21)","n/a","(DGTW)","n/a",null,"(BP, BNEF)","(BP)","n/a","n/a","n/a","n/a"]
[null,1990,{"$f":"Nuclear!H10","v":1908.807090009667},{"$f":"Wind!E10","v":3.6324705158989543},null,null,{"$f":"PV!G10","v":0.38656262626262622},null,null,null,null,null,null,11913.748130784399]
[null,1991,{"$f":"Nuclear!H11","v":1996.1400900000001},{"$f":"Wind!E11","v":4.0861066747070334},null,null,{"$f":"PV!G11","v":0.50646044872502982},null,null,null,null,null,null,12188.923103844838]
[null,1992,{"$f":"Nuclear!H12","v":2015.6030599999999},{"$f":"Wind!E12","v":4.7328120191514795},null,null,{"$f":"PV!G12","v":0.46881339231650393},null,null,null,null,null,null,12290.976480487656]
[null,1993,{"$f":"Nuclear!H13","v":2081.6272820000004},{"$f":"Wind!E13","v":5.6961688193938986},null,null,{"$f":"PV!G13","v":0.55679550382791754},null,null,null,null,null,null,12549.664486781583]
[null,1994,{"$f":"Nuclear!H14","v":2125.160042},{"$f":"Wind!E14","v":7.1255682280807608},null,null,{"$f":"PV!G14","v":0.6009917031380585},null,null,null,null,null,null,12880.130533506708]
[null,1995,{"$f":"Nuclear!H15","v":2190.94},{"$f":"Wind!E15","v":8.2630830395959158},null,null,{"$f":"PV!G15","v":0.64159963807446196},null,null,null,null,null,null,13334.918685009954]
[null,1996,{"$f":"Nuclear!H16","v":2269.39},{"$f":"Wind!E16","v":9.179570357565618},null,null,{"$f":"PV!G16","v":0.70492514331599088},null,null,null,null,null,null,13761.060074014242]
[null,1997,{"$f":"Nuclear!H17","v":2263.79},{"$f":"Wind!E17","v":11.992895863717129},null,null,{"$f":"PV!G17","v":0.75707166061657927},null,null,null,null,null,null,14090.424476576769]
[null,1998,{"$f":"Nuclear!H18","v":2298.27},{"$f":"Wind!E18","v":15.918789459724106},null,null,{"$f":"PV!G18","v":0.87972485499716158},null,null,null,null,null,null,14464.274840947033]
[null,1999,{"$f":"Nuclear!H19","v":2378.9299999999998},{"$f":"Wind!E19","v":21.237848743983083},null,null,{"$f":"PV!G19","v":0.96455704736575998},null,null,null,null,null,null,14881.223499782789]
[null,2000,{"$f":"Nuclear!H20","v":2443.85},{"$f":"Wind!E20","v":31.50290163342617},{"$f":"Hydro!F9","v":363.57510960000002},{"$f":"'Biomass & Waste'!G8","v":237.25003679999998},{"$f":"PV!G20","v":1.1508539363960635},{"$f":"Geothermal!H8","v":48.415406940000004},{"$f":"SUM(D18:H18)","v":681.89430890982226},{"$f":"'Cogeneration (CHP)'!J8","v":1554.9223457925698},{"$f":"F18+J18+G18+D18+E18+H18","v":2236.816654702392},{"$f":"K18/C18","v":0.9152839391543639},{"$f":"Hydro!L9","v":2292.9599042642249},15510.530941363877,{"$f":"K18/N18","v":0.14421277151365544},{"$f":"C18/N18","v":0.15756069274731782},{"$f":"I18/N18","v":4.3963311861319285E-2},{"$f":"(I18+M18)/N18","v":0.19179576923705624}]
[null,2001,{"$f":"Nuclear!H21","v":2511.09},{"$f":"Wind!E21","v":38.639282426669602},{"$f":"Hydro!F10","v":365.07497219999999},{"$f":"'Biomass & Waste'!G9","v":238.38830189999999},{"$f":"PV!G21","v":1.4257084250852414},{"$f":"Geothermal!H9","v":49.023828702000003},{"$f":"SUM(D19:H19)","v":692.55209365375481},{"$f":"'Cogeneration (CHP)'!J9","v":1645.1487861974358},2337.7008798511906,{"$f":"K19/C19","v":0.93095065483562534},{"$f":"Hydro!L10","v":2222.4118697523181},15736.988439753817,0.14854817291126896,{"$f":"C19/N19","v":0.1595661081923806},{"$f":"I19/N19","v":4.4007917798571425E-2},{"$f":"(I19+M19)/N19","v":0.18523010133517476}]
[null,2002,{"$f":"Nuclear!H22","v":2553.1799999999998},{"$f":"Wind!E22","v":52.979291412961892},{"$f":"Hydro!F11","v":371.87651160000001},{"$f":"'Biomass & Waste'!G10","v":244.86966314999998},{"$f":"PV!G22","v":1.8072595549122914},{"$f":"Geothermal!H10","v":50.388747498000001},721.92147321587424,{"$f":"'Cogeneration (CHP)'!J10","v":1748.6676096130589},2470.589082828933,0.96765174520751895,{"$f":"Hydro!L11","v":2263.5053521554933},16286.080821047995,0.15169942418779872,0.15677068215824469,4.4327513853601223E-2,0.18331155654790973]
[null,2003,{"$f":"Nuclear!H23","v":2504.7800000000002},{"$f":"Wind!E23","v":63.391005997817466},{"$f":"Hydro!F12","v":381.28681260000008},{"$f":"'Biomass & Waste'!G11","v":257.27092334999998},{"$f":"PV!G23","v":2.2942419832846079},{"$f":"Geothermal!H11","v":52.118919216000009},756.36190314710211,{"$f":"'Cogeneration (CHP)'!J11","v":1856.6753258455385},2613.0372289926408,1.0432202544705087,{"$f":"Hydro!L12","v":2245.4194877197897},16885.486071143896,0.1547504891468974,0.1483392298833785,4.4793611505189138E-2,0.17777287418434015]
[null,2004,{"$f":"Nuclear!H24","v":2616.2399999999998},{"$f":"Wind!E24","v":85.580076674849693},{"$f":"Hydro!F13","v":392.87283480000002},{"$f":"'Biomass & Waste'!G12","v":269.31781799999999},{"$f":"PV!G24","v":3.0094750653244335},{"$f":"Geothermal!H12","v":53.182243782000015},{"$f":"SUM(D22:H22)","v":803.96244832217417},{"$f":"'Cogeneration (CHP)'!J12","v":1946.6905575016026},2750.6530058237768,1.0513764050025138,{"$f":"Hydro!L13","v":2410.848295631853},17671.887225882165,0.15565134445828643,0.14804530871882585,4.5493864806057299E-2,0.18191666248557936]
[null,2005,{"$f":"Nuclear!H25","v":2626.34},{"$f":"Wind!E25","v":104.21931112492308},{"$f":"Hydro!F14","v":409.57031160000003},{"$f":"'Biomass & Waste'!G13","v":285.80118525},{"$f":"PV!G25","v":4.2299170533606638},{"$f":"Geothermal!H13","v":53.501834609999996},857.32255963828368,{"$f":"'Cogeneration (CHP)'!J13","v":2059.9036419656095},2917.2262016038931,1.1107572521470537,{"$f":"Hydro!L14","v":2510.6168658898746},18430.619086073813,0.15828150904644059,0.14249874015270947,4.6516210640264226E-2,0.18273609854337314]
[null,2006,{"$f":"Nuclear!H26","v":2660.85},{"$f":"Wind!E26","v":133.0357515167492},{"$f":"Hydro!F15","v":428.10601860000003},{"$f":"'Biomass & Waste'!G14","v":317.52533924999994},{"$f":"PV!G26","v":5.7825748505755117},{"$f":"Geothermal!H14","v":55.519811640000007},939.96949585732477,{"$f":"'Cogeneration (CHP)'!J14","v":2183.9984291316277},3123.9679249889527,1.1740488659597319,{"$f":"Hydro!L15","v":2610.2341029675367},19131.652505884042,0.16328792946809795,0.13908103333894661,4.9131641690033423E-2,0.1855670124539936]
[null,2007,{"$f":"Nuclear!H27","v":2608.1799999999998},{"$f":"Wind!E27","v":170.84242460839857},{"$f":"Hydro!F16","v":448.06620060000006},{"$f":"'Biomass & Waste'!G15","v":334.15290720000002},{"$f":"PV!G27","v":7.7021126017145187},{"$f":"Geothermal!H15","v":59.186559312000007},1019.9502043221132,{"$f":"'Cogeneration (CHP)'!J15","v":2325.7055528786341},3345.6557572007473,1.2827549314850768,{"$f":"Hydro!L16","v":2635.6655372873192},20019.304859359167,0.16712147503146843,0.13028324501390753,5.0948332696241411E-2,0.18260452934260632]
[null,2008,{"$f":"Nuclear!H28","v":2597.81},{"$f":"Wind!E28","v":219.05943122843047},{"$f":"Hydro!F17","v":466.92011339999999},{"$f":"'Biomass & Waste'!G16","v":350.26043219999997},{"$f":"PV!G28","v":12.591230496763256},{"$f":"Geothermal!H16","v":62.027602379999998},1110.8588097051936,{"$f":"'Cogeneration (CHP)'!J16","v":2501.7246430281803},3612.5834527333741,1.3906265095343286,{"$f":"Hydro!L17","v":2800.1300047428194},20420.570739488197,0.17690903446432843,0.1272153473642387,5.4399008914921013E-2,0.19152201299080998]
[null,2009,{"$f":"Nuclear!H29","v":2558.06},{"$f":"Wind!E29","v":277.89907200705107},{"$f":"Hydro!F18","v":486.1518408},{"$f":"'Biomass & Waste'!G17","v":372.3783651},{"$f":"PV!G29","v":20.91791860695777},{"$f":"Geothermal!H17","v":64.017089909999996},1221.3642864240089,{"$f":"'Cogeneration (CHP)'!J17","v":2672.605971116403},{"$f":"F27+J27+G27+D27+E27+H27","v":3893.9702575404117},1.5222357010939587,{"$f":"Hydro!L18","v":2769.5175060240608},20261.371853837016,{"$f":"K27/N27","v":0.1921869005529844},0.12625305030940268,6.0280433883489089E-2,0.19696996932082331]
[null,2010,{"$f":"Nuclear!H30","v":2629.82},{"$f":"Wind!E30","v":341.41727699822411},{"$f":"Hydro!F19","v":505.62112680000001},{"$f":"'Biomass & Waste'!G18","v":409.50084104999996},{"$f":"PV!G30","v":33.816254314703187},{"$f":"Geothermal!G18","v":67.2},{"$f":"SUM(D28:H28)","v":1357.5554991629274},{"$f":"'Cogeneration (CHP)'!J18","v":2856.5875822224948},{"$f":"F28+J28+G28+D28+E28+H28","v":4214.1430813854222},1.6024454454622072,{"$f":"Hydro!L19","v":2935.634212669584},21561.712872276421,{"$f":"K28/N28","v":0.19544565435726005},0.12196711901220822,6.2961393985931549E-2,0.19911171887241857]
[null,2011,{"$f":"Nuclear!H31","v":2517.98},{"$f":"Wind!E31","v":436.54059099650584},{"$f":"Hydro!F20","v":526.08798360000014},{"$f":"'Biomass & Waste'!G19","v":451.63199024999989},{"$f":"PV!G31","v":64.695112383789436},{"$f":"Geothermal!G19","v":69},{"$f":"SUM(D29:H29)","v":1547.9556772302954},{"$f":"'Cogeneration (CHP)'!J19","v":3098.636138965674},{"$f":"F29+J29+G29+D29+E29+H29","v":4646.5918161959689},1.8453648623880925,{"$f":"Hydro!L20","v":2975.5605584088544},22242.440093435882,{"$f":"K29/N29","v":0.20890656765519428},0.11320610461003774,6.9594687935660579E-2,0.20337320081055837]
[null,2012,{"$f":"Nuclear!H32","v":2346.19},{"$f":"Wind!E32","v":526.88142838303918},{"$f":"Hydro!F21","v":543.91013820000001},{"$f":"'Biomass & Waste'!G20","v":487.02252375000006},{"$f":"PV!G32","v":100.03390736759329},{"$f":"Geothermal!G20","v":72},{"$f":"SUM(D30:H30)","v":1729.8479977006325},{"$f":"'Cogeneration (CHP)'!J20","v":3338.5516939298632},{"$f":"F30+J30+G30+D30+E30+H30","v":5068.399691630495},2.1602682185289748,{"$f":"Hydro!L21","v":3133.3849804130259},22797.310520298546,0.2223244574011321,0.10291521001615392,7.5879476930420783E-2,0.21332485574486842]
[null,2013,{"$f":"Nuclear!H33","v":2358.86},{"$f":"Wind!E33","v":644.41023878892656},{"$f":"Hydro!F22","v":566.07496920000006},{"$f":"'Biomass & Waste'!G21","v":532.61755785000003},{"$f":"PV!G33","v":137.56115379838994},{"$f":"Geothermal!G21","v":76},1956.6639196373167,{"$f":"'Cogeneration (CHP)'!J21","v":3589.1672344672543},5545.8311541045705,2.3510641386536593,{"$f":"Hydro!L22","v":3231.1210093783029},23402.878843702005,0.23697217727540473,0.10079358252263899,8.3607830160770086E-2,0.22167293877230468]
[null,2014,{"$f":"Nuclear!H34","v":2410.37},{"$f":"Wind!E34","v":709.29777197299859},{"$f":"Hydro!F23","v":589.11026399999992},{"$f":"'Biomass & Waste'!G22","v":577.24614044999998},{"$f":"PV!G34","v":196.33298751611736},{"$f":"Geothermal!G22","v":74},2145.9871639391158,{"$f":"'Cogeneration (CHP)'!J22","v":3877.5205502396693},{"$f":"F32+J32+G32+D32+E32+H32","v":6023.5077141787851},2.4989971308051402,{"$f":"Hydro!L23","v":3296.9473570730638},23843.989446447915,{"$f":"K32/N32","v":0.25262163983536401},{"$f":"C32/N32","v":0.10108920763505359},{"$f":"I32/N32","v":9.000117907109742E-2},{"$f":"(I32+M32)/N32","v":0.22827281203242705}]
[null,2015,{"$f":"Nuclear!H35","v":2441.33},{"$f":"Wind!E35","v":828.03517559451723},{"$f":"Hydro!F24","v":603.75036060000002},{"$f":"'Biomass & Waste'!G23","v":611.49073859999987},{"$f":"PV!G35","v":256.19092881320381},{"$f":"Geothermal!G23","v":75},2374.4672036077209,{"$f":"'Cogeneration (CHP)'!J23","v":4149.8061525611174},{"$f":"F33+J33+G33+D33+E33+H33","v":6524.2733561688383},2.672425831890338,{"$f":"Hydro!L24","v":3299.5316037953603},24215.527008603465,{"$f":"K33/N33","v":0.26942520614359738},0.10081671974897044,{"$f":"I33/N33","v":9.805556586747434E-2},0.23431242299154514]
[null,2016,{"$f":"Nuclear!H36","v":2476.2199999999998},{"$f":"Wind!E36","v":959.52950605159629},{"$f":"Hydro!F25","v":615.71156760000008},{"$f":"'Biomass & Waste'!G24","v":638.96710814999994},{"$f":"PV!G36","v":333.05249250532438},{"$f":"Geothermal!G24","v":78},2625.2606743069209,{"$f":"'Cogeneration (CHP)'!J24","v":4418.4870994761459},{"$f":"F34+J34+G34+D34+E34+H34","v":7043.7477737830668},{"$f":"K34/C34","v":2.8445565312383665},{"$f":"Hydro!L25","v":3407.226201497896},24816.352389888969,{"$f":"K34/N34","v":0.28383493525232706},9.9781787472074127E-2,0.10578753207004515,{"$f":"(I34+M34)/N34","v":0.24308515534549946}]
[]
[]
[]
[]
[]
[]
[]
[]
[]
[]
[]
[]
[]
[]
[]
[]
[]
[]
[]
[]
[]
[]
[]
[]
[]
[]
[]
[]
[]
[null,null,null,"Source Data"]
[]
[null,null,null,"Historical","BP Statistical Review of World Energy (June 2010)"]
[null,null,null,null,"BP Statistical Review of World Energy (2011): 2010 Data"]
[]
[null,null,null,"Historical","BP Statistical Review of World Energy (June 2010) hydro generation data minus RMI-calculated small hydro generation"]
[null,null,null,null,"BP Statistical Review of World Energy (2011): 2010 Data"]
[null,null,null,null,"SB note: The Hydroelectricity data for previous years is different between the 2011 & 2010 reports; consider updating past data."]
[]
[null,null,null,null,"ALL OTHER DATA TAKEN FROM \"SOURCE DATA\" SPREADHEETS IN THIS WORKBOOK"]

{"sheet":"Nuclear","index":9,"n_rows":53,"n_cols":10,"rows_kept":53,"cut":false,"hidden":false,"merged":[[5,1,5,9]]}
[]
[null,"This sheet presents the source data needed to find nuclear capacity and output.  "]
[null,"Capacity in the summary sheet comes from IAEA; generation in the summary sheet comes from IAEA."]
[null,"IAEA capacity includes dozens of units (38 in Japan since 2011) in Long-Term Shutdown as defined in the World Nuclear Industry Status Report (www.worldnuclearreport.org), increasing column G and decreasing column J"]
[]
[null,"NUCLEAR"]
[null,null,"New",null,null,"Net New","Cumulative","(IAEA) Electrical","(BP) Electrical","Inferred"]
[null,null,"Connections","Shut Downs","Uprates","Capacity","Capacity","Output","Output","capacity"]
[null,null,"(MW)","(MW)","(MW)","(MW)","(MW)","(TWh/y)","(TWh/y)","factor"]
[null,1990,10543,4978,null,{"$f":"C10-D10","v":5565},318253,1908.807090009667,2001.842498610529]
[null,1991,3678,1809,null,{"$f":"C11-D11","v":1869},321924,1996.1400900000001,2097.5733771789519]
[null,1992,4809,2046,null,2763,325261,2015.6030599999999,2113.8193657894776]
[null,1993,9012,0,null,9012,333914,2081.6272820000004,2186.3636514210589]
[null,1994,4332,1414,null,2918,336904,2125.160042,2227.8662414842165]
[null,1995,3536,769,null,2767,341387,2190.94,2324.0386819894798,{"$f":"I15*1000000/(8766*G15)","v":0.77659556637217531}]
[null,1996,7080,1285,null,5795,347281,2269.39,2408.7077554631628,0.79122795184423389]
[null,1997,3570,2781,null,789,347880,2263.79,2391.5953261473719,0.78425404667725895]
[null,1998,2952,4080,null,-1128,344900,2298.27,2433.5805700176693,0.80491694200882669]
[null,1999,2704,652,null,2052,347353,2378.9299999999998,2523.8650724969875,0.82888372627546703]
[null,2000,3063,1395,null,1668,349984,2443.85,2582.1547990372978,0.84165211231575332]
[null,2001,2696,0,null,2696,352715,2511.09,2654.9674937948948,0.85868487337469046]
[null,2002,5022,1067,null,3955,357481,2553.1799999999998,2697.5646254165954,0.86083006661385941]
[null,2003,1600,988,null,612,359827,2504.7800000000002,2643.0596452258619,0.83793773699105389]
[null,2004,4785,1385,null,3400,364673,2616.2399999999998,2759.7947450748547,0.86331981153049309]
[null,2005,3823,940,null,2883,368125,2626.34,2767.0532016423372,0.85747354681979338]
[null,2006,1492,2236,null,{"$f":"C26-D26","v":-744},369581,2660.85,2806.1412413669036,0.86616059881327656]
[null,2007,1842,0,null,1842,371707,2608.1799999999998,2746.4810748456239,0.8428967991600812]
[null,2008,0,408,null,-408,371557,2597.81,2737.8592772587631,0.840589978713431]
[null,2009,1068,2506,645,{"$f":"C29-D29+E29","v":-793},370697,2558.06,2711.9507302043207,0.83456709493123504]
[null,2010,3779,130,926,{"$f":"C30-D30+E30","v":4575},375277,2629.82,2766.1337852787615,0.84085239717796856]
[null,2011,4004,11358,1005,{"$f":"C31-D31+E31","v":-6349},368921,2517.98,2652.1575672920567,0.82009559445076718]
[null,2012,2918,1342,952,2528,373263,2346.19,2471.522054724056,0.7553497358587874]
[null,2013,3986,3576,283,{"$f":"C33-D33+E33","v":693},371793,2358.86,2491.9498199562886,0.76460409153088582]
[null,2014,4721,605,367,{"$f":"C34-D34+E34","v":4483},376341,2410.37,2541.2431359500474,{"$f":"I34*1000000/(8766*G34)","v":0.77030588837150427}]
[null,2015,9367,3863,1019,{"$f":"C35-D35+E35","v":6523},382855,2441.33,2575.2570709416946,{"$f":"I35*1000000/(8766*G35)","v":0.76733463046771722}]
[null,2016,9545,1405,153,{"$f":"C36-D36+E36","v":8293},391116,2476.2199999999998,2616.5405069809158,{"$f":"I36*1000000/(8766*G36)","v":0.76316845967700198}]
[]
[null,"Note: Data in bold from respective sources; other data extrapolated/interpolated."]
[]
[null,"Source Data"]
[]
[null,"Capacity","IAEA Nuclear Power Reactors in the World, 2017 Edition"]
[null,null,"http://www-pub.iaea.org/MTCD/Publications/PDF/RDS_2-37_web.pdf"]
[]
[null,"Capacity","IAEA PRIS Database accessed 5 July 2017"]
[null,null,"http://www.iaea.org/PRIS/WorldStatistics/WorldTrendNuclearPowerCapacity.aspx"]
[null,null,"http://www.iaea.org/PRIS/WorldStatistics/WorldTrendinElectricalProduction.aspx"]
[]
[null,"Generation","Energy Information Administration, International Energy Annual 2006.  Table 2.7"]
[null,null,"http://www.fypower.org/pdf/EIA_IntlEnergyOutlook(2006).pdf"]
[]
[null,"Generation","BP Statistical Review of World Energy, 2017 Edition"]
[null,null,"http://www.bp.com/en/global/corporate/energy-economics/statistical-review-of-world-energy.html"]

{"sheet":"Nuclear Uprates","index":10,"n_rows":19,"n_cols":12,"rows_kept":19,"cut":false,"hidden":true,"merged":[]}
[]
[null,null,"Year  ","Approximate Megawatts Electric (US)","Approximate Megawatts Electric (France)","Approximate Megawatts Electric (Finland)","Approximate Megawatts Electric (Mexico)","Approximate Megawatts Electric (Sweden)","Approximate Megawatts Electric (Russia)","Approximate Megawatts Electric (Spain)","Total"]
[null,null,2010,851,135,null,280,null,null,null,{"$f":"SUM(D3:J3)","v":1266}]
[null,null,2011,730,null,260,null,707,null,null,{"$f":"SUM(D4:J4)","v":1697},"ABL note: use projected 2011 uprates until we have a time to find new numbers"]
[null,null,2012,643,null,null,null,null,null,null,643,"SB note: from NEI 01/2012 Update"]
[null,null,2013,101,null,null,null,null,null,null,101]
[null,null,2014,0,null,null,null,null,null,null,0]
[null,null,2015,310,null,null,null,null,null,null,310]
[null,null,2016,145,null,null,null,null,null,null,145]
[null,null,"TOTAL "]
[]
[]
[]
[null,null,"Source Data"]
[null,null,"Outlook:","Nuclear Energy Institute, U.S. Nuclear Expected Uprates"]
[null,null,null,"http://www.nei.org/resourcesandstats/documentlibrary/reliableandaffordableenergy/graphicsandcharts/usnuclearexpectedpoweruprates/"]
[]
[null,null,"Outlook:","World Nuclear Association Country Reports (see Micropower Methodology (May 2010).doc)"]
[null,null,null,"http://www.world-nuclear.com/info/inf84.html"]

{"sheet":"Wind","index":11,"n_rows":52,"n_cols":7,"rows_kept":52,"cut":false,"hidden":false,"merged":[[43,1,44,1],[5,1,5,6]]}
[]
[null,"This sheet presents RMI's source data for wind capacity and output.  "]
[null,"Capacity in the summary sheet comes from GWEC; generation in the summary sheet comes from BP."]
[null,"Actual capacity factors are much higher than the inferred number shown in column G due to timing in installation; see \"Capacity (GW)\" tab."]
[]
[null,"WIND"]
[null,null,"Net annual","Installed","(BP) Electrical","(EIA) Electrical","Inferred"]
[null,null,"additions","Capacity","Output","Output","capacity"]
[null,null,"(MW)","(MW)","(TWh/y)","(TWh/y)","factor"]
[null,1990,null,1743,3.6324705158989543,3.5,{"$f":"E10*1000000/(D10*8766)","v":0.23774053980656201}]
[null,1991,{"$f":"D11-D10","v":240},1983,4.0861066747070334,4.0999999999999996,{"$f":"E11*1000000/(D11*8766)","v":0.23506367405556361}]
[null,1992,338,2321,4.7328120191514795,4.5999999999999996,{"$f":"E12*1000000/(D12*8766)","v":0.23261764167711743}]
[null,1993,480,2801,5.6961688193938986,5.6,0.23198947229880573]
[null,1994,730,3531,7.1255682280807608,7.3,0.23020795079314646]
[null,1995,1290,4821,8.2630830395959158,8,0.19552555144243583]
[null,1996,1280,6100,9.179570357565618,9.3000000000000007,0.17166867437838476]
[null,1997,1530,7600,11.992895863717129,12.1,0.18001512818240825]
[null,1998,2520,10200,15.918789459724106,16.100000000000001,0.17803623469156798]
[null,1999,3440,13600,21.237848743983083,21.2,0.17814356893598834]
[null,2000,3760,17400,31.50290163342617,31.4,0.20653794069449474]
[null,2001,6500,23900,38.639282426669602,38.4,0.18442920119608952]
[null,2002,7270,31100,52.979291412961892,52.8,0.19433198646393179]
[null,2003,8133,39431,63.391005997817466,64.3,0.18339537807416784]
[null,2004,8207,47620,85.580076674849693,84.1,0.20501319498728021]
[null,2005,11531,59091,104.21931112492308,104,0.20119880283357872]
[null,2006,15052,74006,133.0357515167492,131.80000000000001,0.20506897920824124]
[null,2007,19865,93639,170.84242460839857,170.6,0.20813134604245237]
[null,2008,26721,120267,219.05943122843047,220.3,0.20778491336549401]
[null,2009,38708,158864,277.89907200705107,276,0.19955386185610155]
[null,2010,38850,197686,341.41727699822411,341.5,0.19701900163434408]
[null,2011,40629,238035,436.54059099650584,446.3,0.20920995523678176]
[null,2012,44711,282430,526.88142838303918,520,0.21281419782833944]
[null,2013,{"$f":"D33-D32","v":35675},318105,644.41023878892656,"n/a",0.23109495809877348]
[null,2014,{"$f":"D34-D33","v":51448},369553,709.29777197299859,"n/a",{"$f":"E34*1000000/(D34*8766)","v":0.21895274643818793}]
[null,2015,63467,432883,828.03517559451723,"n/a",{"$f":"E35*1000000/(D35*8766)","v":0.21821107524767247}]
[null,2016,54642,486790,959.52950605159629,"n/a",{"$f":"E36*1000000/(D36*8766)","v":0.22486156020561907}]
[]
[null,"Note: Data in bold from respective sources; other data extrapolated/interpolated."]
[]
[null,"Source Data"]
[null,"Capacity","European Wind Energy Association"]
[null,null,"The Current Status of the Wind Industry, 2005"]
[]
[null,"Capacity","Global Wind Energy Council (GWEC)"]
[null,null,"Global Wind Report, Annual Market Update 2016, p. 15"]
[null,null,"http://www.gwec.net/publications/global-wind-report-2/global-wind-report-2016/"]
[]
[null,"Generation","BP Statistical Review of World Energy, 2017 Edition"]
[null,null,"http://www.bp.com/en/global/corporate/energy-economics/statistical-review-of-world-energy.html"]
[]
[null,"Generation","EIA International Energy Statistics, not available after 2012"]
[null,null,"http://www.eia.gov/cfapps/ipdbproject/iedindex3.cfm?tid=6&pid=37&aid=12&cid=regions&syid=1990&eyid=2012&unit=BKWH"]

{"sheet":"PV","index":12,"n_rows":49,"n_cols":8,"rows_kept":49,"cut":false,"hidden":false,"merged":[[5,1,5,7]]}
[]
[null,"This sheet presents RMI's source data for solar PV capacity and output.  "]
[null,"Capacity in the summary sheet comes from EPIA since 2000; generation in the summary sheet comes from BP."]
[null,"Actual capacity factors are much higher than the inferred number shown in column G due to timing in installation; see \"Capacity (GW)\" tab."]
[]
[null,"SOLAR PHOTOVOLTAIC (PV)"]
[null,null,"Manufactured","Installed","Net annual","Cumulative","(BP) Electrical","Inferred"]
[null,null,"capacity","capacity","additions","capacity","output","capacity"]
[null,null,"(MW)","(MW)","(MW)","(MW)","(TWh/y)","factor*"]
[null,1990,47,{"$f":"$C10*0.3834+40*(1-0.3834)","v":42.683800000000005},{"$f":"$C10*0.3834+40*(1-0.3834)","v":42.683800000000005},{"$f":"268","v":268},0.38656262626262622,{"$f":"G10*1000000/(8766*F10)","v":0.16454458808908326}]
[null,1991,55,{"$f":"$C11*0.3834+$C10*(1-0.3834)","v":50.0672},{"$f":"$C11*0.3834+$C10*(1-0.3834)","v":50.0672},{"$f":"F10+D11","v":318.06720000000001},0.50646044872502982,{"$f":"G11*1000000/(8766*F11)","v":0.18164572588658151}]
[null,1992,58,{"$f":"$C12*0.3834+$C11*(1-0.3834)","v":56.150200000000005},56.150200000000005,374.2174,0.46881339231650393,0.1429139313105843]
[null,1993,60,58.766800000000003,58.766800000000003,432.98419999999999,0.55679550382791754,0.14669732833465968]
[null,1994,69,63.450600000000009,63.450600000000009,496.4348,0.6009917031380585,0.13810353406398951]
[null,1995,78,72.450600000000009,72.450600000000009,568.8854,0.64159963807446196,{"$f":"G15*1000000/(8766*F15)","v":0.12865831399770475}]
[null,1996,89,82.217399999999998,82.217399999999998,651.1028,0.70492514331599088,0.1235071135270354]
[null,1997,126,103.1858,103.1858,754.28859999999997,0.75707166061657927,0.1144980207141818]
[null,1998,155,137.11860000000001,137.11860000000001,891.40719999999999,0.87972485499716158,0.11258207746852637]
[null,1999,201,172.63640000000001,172.63640000000001,1064.0436,0.96455704736575998,0.10341106915810598]
[null,2000,288,234.35580000000002,234.35580000000002,1288,1.1508539363960635,0.10193020042818451]
[null,2001,null,null,{"$f":"F21-F20","v":327},1615,1.4257084250852414,0.10070631924253087]
[null,2002,null,null,454,2069,1.8072595549122914,9.9645702331412678E-2]
[null,2003,null,null,566,2635,2.2942419832846079,9.93246714074522E-2]
[null,2004,null,null,1088,3723,3.0094750653244335,9.221386959948219E-2]
[null,2005,null,null,1389,5112,4.2299170533606638,9.4392945797853012E-2]
[null,2006,null,null,1548,6660,5.7825748505755117,9.9047967381747107E-2]
[null,2007,null,null,2523,9183,7.7021126017145187,9.5680583002940994E-2]
[null,2008,null,null,6661,15844,12.591230496763256,9.065711080568091E-2]
[null,2009,null,null,7341,23185,20.91791860695777,0.1029223994019563]
[null,2010,null,null,17151,40336,33.816254314703187,9.5638158730589548E-2]
[null,2011,null,null,30133,70469,64.695112383789436,0.1047301912682395]
[null,2012,null,null,30035,100504,100.03390736759329,{"$f":"G32*1000000/(8766*F32)","v":0.11354353724987107}]
[null,2013,null,null,38352,138856,137.56115379838994,{"$f":"G33*1000000/(8766*F33)","v":0.11301333551956762}]
[null,2014,null,null,39535,178391,196.33298751611736,0.12555062204441342]
[null,2015,null,null,{"$f":"F35-F34","v":51509},229900,256.19092881320381,{"$f":"G35*1000000/(8766*F35)","v":0.12712275919010696}]
[null,2016,null,null,76600,306500,333.05249250532438,{"$f":"G36*1000000/(8766*F36)","v":0.12395976464953923}]
[]
[null,"Note: Data in bold from respective sources; other data extrapolated/interpolated"]
[null,"*This capacity factor is calculated for a 24-hour timespan; hence the capacity factor would be significantly higher during the day"]
[]
[null,"Source Data"]
[null,"Capacity",null,"Worldwatch Vital Signs 2005.  "]
[null,null,null,"http://www.worldwatch.org/pubs/vs/2005/"]
[]
[null,"Capacity",null,"EPIA Global Market Outlook 2017–2021"]
[null,null,null,"http://www.solarpowereurope.org/reports/global-market-outlook-2017/"]
[]
[null,"Generation",null,"BP Statistical Review of World Energy, 2017 Edition"]
[null,null,null,"http://www.bp.com/en/global/corporate/energy-economics/statistical-review-of-world-energy.html"]

{"sheet":"Hydro","index":13,"n_rows":41,"n_cols":12,"rows_kept":41,"cut":false,"hidden":false,"merged":[[4,1,4,5],[4,7,4,11]]}
[]
[null,"This sheet presents RMI's source data for hydro capacity and output.  "]
[null,"Capacity in the summary sheet comes from BNEF; generation in the summary sheet comes from BNEF multiplied by a nominal 0.40 capacity factor."]
[]
[null,"SMALL HYDRO (≤50 MW)",null,null,null,null,null,"LARGE HYDRO (>50 MW)"]
[null,null,"Capacity ","Cumulative","Capacity","Small hydro generation",null,null,"Cumulative","Total generation","Small hydro","Large hydro"]
[null,null,"additions","capacity","factor","(Capacity * CF)",null,null,"capacity",null,"generation","generation"]
[null,null,"(GW)","(GW)",null,"(TWh/y)",null,null,"(GW)","(TWh/y)","(TWh/y)","(TWh/y)"]
[null,2000,null,103.68899999999999,0.4,{"$f":"D9*8766*E9/1000","v":363.57510960000002},null,2000,637.73,2656.5350138642248,{"$f":"F9","v":363.57510960000002},{"$f":"J9-K9","v":2292.9599042642249}]
[null,2001,{"$f":"D10-D9","v":1.7110000000000127},105.4,0.4,{"$f":"(D9+C10/4)*8766*E10/1000","v":365.07497219999999},null,2001,644.37400000000002,2587.4868419523182,365.07497219999999,{"$f":"J10-K10","v":2222.4118697523181}]
[null,2002,2.6259999999999906,108.026,0.4,371.87651160000001,null,2002,651.36099999999999,2635.3818637554932,371.87651160000001,2263.5053521554933]
[null,2003,2.8569999999999993,110.883,0.4,381.28681260000008,null,2003,659.09100000000001,2626.7063003197895,381.28681260000008,2245.4194877197897]
[null,2004,4.6460000000000008,115.529,0.4,392.87283480000002,null,2004,663.85500000000002,2803.721130431853,392.87283480000002,2410.848295631853]
[null,2005,5.1099999999999994,120.639,0.4,409.57031160000003,null,2005,674.73800000000006,2920.1871774898746,409.57031160000003,2510.6168658898746]
[null,2006,5.8149999999999977,126.45399999999999,0.4,428.10601860000003,null,2006,684.74199999999996,3038.3401215675367,428.10601860000003,2610.2341029675367]
[null,2007,5.3250000000000028,131.779,0.4,448.06620060000006,null,2007,705.33100000000002,3083.7317378873195,448.06620060000006,2635.6655372873192]
[null,2008,5.5330000000000155,137.31200000000001,0.4,466.92011339999999,null,2008,733.39,3267.0501181428194,466.92011339999999,2800.1300047428194]
[null,2009,5.339999999999975,142.65199999999999,0.4,486.1518408,null,2009,758.83699999999999,3255.669346824061,486.1518408,2769.5175060240608]
[null,2010,6.1900000000000261,148.84200000000001,0.4,505.62112680000001,null,2010,777.524,3441.2553394695842,505.62112680000001,2935.634212669584]
[null,2011,4.7779999999999916,153.62,0.4,526.08798360000014,null,2011,803.82500000000005,3501.6485420088547,526.08798360000014,2975.5605584088544]
[null,2012,5.9969999999999857,159.61699999999999,0.4,543.91013820000001,null,2012,835.59500000000003,3677.2951186130258,543.91013820000001,3133.3849804130259]
[null,2013,7.2940000000000111,166.911,0.4,566.07496920000006,null,2013,870.66200000000003,3797.1959785783029,566.07496920000006,3231.1210093783029]
[null,2014,4.3959999999999866,171.30699999999999,0.4,{"$f":"(D22+C23/4)*8766*E23/1000","v":589.11026399999992},null,2014,900.45100000000002,3886.0576210730637,{"$f":"F23","v":589.11026399999992},{"$f":"J23-K23","v":3296.9473570730638}]
[null,2015,{"$f":"D24-D23","v":3.5130000000000052},174.82,0.4,{"$f":"(D23+C24/4)*8766*E24/1000","v":603.75036060000002},null,2015,925.86199999999997,3903.2819643953603,{"$f":"F24","v":603.75036060000002},{"$f":"J24-K24","v":3299.5316037953603}]
[null,2016,3.1059999999999945,177.92599999999999,0.4,{"$f":"(D24+C25/4)*8766*E25/1000","v":615.71156760000008},null,2016,937.13699999999994,4022.9377690978963,{"$f":"F25","v":615.71156760000008},{"$f":"J25-K25","v":3407.226201497896}]
[]
[null,"Note: Data in bold from respective sources; other data extrapolated/interpolated."]
[]
[null,"Source Data"]
[null,"Capacity","Bloomberg New Energy Finance (BNEF), 2017 database (Market Sizing, Generation Capacity, Renewable Energy)"]
[]
[null,"Capacity","European Association for Small Hydro"]
[null,"factor","http://www.esha.be/about/about-small-hydropower/small-hydropower-in-figures.html"]
[]
[null,"Generation","BP Statistical Review of World Energy, 2017 Edition"]
[null,null,"http://www.bp.com/en/global/corporate/energy-economics/statistical-review-of-world-energy.html"]
[]
[]
[null,"Assumptions:"]
[null,"Small hydro has a capacity factor of 0.4"]
[null,"(This value is conservative; other reports give a CF of 0.5 (http://www.akamaiuniversity.us/PJST10_2_535.pdf, http://www.british-hydro.org/Useful_Information/A%20Guide%20to%20UK%20mini-hydro%20development%20v3.pdf))"]

{"sheet":"Geothermal","index":14,"n_rows":51,"n_cols":8,"rows_kept":51,"cut":false,"hidden":false,"merged":[[3,1,3,7]]}
[]
[null,"This sheet presents RMI's source data for geothermal capacity and output.  "]
[]
[null,"GEOTHERMAL"]
[null,null,"Capacity","Cumulative","Cumulative ","Inferred","Electrical ","(BNEF) Electrical "]
[null,null,"additions","capacity","capacity (BNEF)","capacity factor","output","output"]
[null,null,"(GW)","(GW)","(GW)",null,"(TWh/y)","(TWh/y)"]
[null,2000,0.28499999999999998,8.1722999999999999,7.7789999999999999,0.71,{"$f":"(D8-C8+C8/4)*F8*8766/10^3","v":49.532901002999999},{"$f":"(E8)*F8*8766/10^3","v":48.415406940000004}]
[null,2001,{"$f":"D9-D8","v":6.109999999999971E-2},{"$f":"D8+(D$11-D$8)/3","v":8.2333999999999996},7.9059999999999997,{"$f":"F8+(F$18-F$8)/10","v":0.71599999999999997},{"$f":"(D9-C9+C9/4)*F9*8766/10^3","v":51.388954234199993},{"$f":"(E8+(E9-E8)/4)/1000*8766*F9","v":49.023828702000003}]
[null,2002,6.109999999999971E-2,{"$f":"D9+(D$11-D$8)/3","v":8.2944999999999993},8.1280000000000001,{"$f":"F9+(F$18-F$8)/10","v":0.72199999999999998},{"$f":"(D10-C10+C10/4)*F10*8766/10^3","v":52.20629300609999},{"$f":"(E9+(E10-E9)/4)/1000*8766*F10","v":50.388747498000001}]
[null,2003,6.1100000000001486E-2,8.3556000000000008,8.2840000000000007,0.72799999999999998,53.030059009199995,52.118919216000009]
[null,2004,0.52389999999999937,8.8795000000000002,8.2100000000000009,0.73399999999999999,54.604694274299995,53.182243782000015]
[null,2005,0.476799999999999,9.3562999999999992,8.3610000000000007,0.74,58.373127107999998,53.501834609999996]
[null,2006,0.31900000000000084,9.6753,8.8770000000000007,0.746,61.706445067799997,55.519811640000007]
[null,2007,0.37020000000000053,10.045500000000001,9.2829999999999995,0.752,64.38997977119999,59.186559312000007]
[null,2008,0.4242000000000008,10.469700000000001,9.4909999999999997,0.75800000000000001,67.453273373400009,62.027602379999998]
[null,2009,0.40500000000000003,11,9.7620000000000005,0.76400000000000001,71.635182210000011,64.017089909999996]
[null,2010,0.24,11,10.247999999999999,0.77,67.2,66.711845969999999]
[null,2011,0.13600000000000001,11.2,10.26,{"$f":"(G19*1000)/(D19*8766)","v":0.70279651901828499},69,{"$f":"(E18+(E19-E18)/4)/1000*8766*F19","v":63.153482142857143}]
[null,2012,0.3,11.7,10.913,0.70201302234156449,72,64.143076923076933]
[null,2013,0.53,12,11.516,0.7224884021598601,76,{"$f":"(E20+(E21-E20)/4)/1000*8766*F21","v":70.070416666666674}]
[null,2014,0.64,12.8,12.457000000000001,0.65950832762947753,74,{"$f":"(E21+(E22-E21)/4)/1000*8766*F22","v":67.936914062500009}]
[null,2015,0.315,13.2,13.209,0.64816543255968306,75,{"$f":"(E22+(E23-E22)/4)/1000*8766*F23","v":71.846590909090907}]
[null,2016,0.44700000000000001,13.5,14.067,0.65911222653180213,78,{"$f":"(E23+(E24-E23)/4)/1000*8766*F24","v":77.558000000000007}]
[]
[null,"Note: Data in bold from respective sources; other data extrapolated."]
[]
[null,"SOURCE DATA"]
[null,"Capacity","Navigant Consulting"]
[null,null,"State of Renewable Energy in America, Lisa Frantzis, 2003"]
[null,null,"Presentation to ACRE 2nd Annual Conference, July 8th 2003"]
[null,null,"Figure: Estimated Annual Worldwide Renewable Energy Capacity Additions"]
[]
[null,"Capacity","International Geothermal Association, conference papers presented at various "]
[null,null,"IGA workshops and congresses."]
[null,null,"Cited in: BP Statistical Review of World Energy 2009"]
[null,null,"2010: International Geothermal Association"]
[]
[null,"Capacity","REN21 Global Status Report 2005-2017"]
[null,"and output","http://www.ren21.net/status-of-renewables/global-status-report/"]
[]
[null,"Capacity","Bloomberg New Energy Finance (BNEF), 2017 database"]
[]
[null,"Capacity","Ingvar B. Fridleifsson (United Nations University Geothermal Training Programme, Iceland)"]
[null,"factor","The Possible Role and Contribution of Geothermal Energy to the Mitigation of Climate Change"]
[null,null,"Presented to the International Panel on Climate Change, Feb 2008"]
[]
[]
[null,"Assumptions:"]
[null,"For years 2000–2009 geothermal electrical output data is calculated based on the capacity factor, assuming last year's capacity plus one quarter of the capacity additions"]
[null,"When electrical output is based on capacity, we assume the previous year's capacity plus one quarter of this year's capacity. For instance, 2014 generation is based on 2013 capacity plus 25% of the 2014 capacity additions multiplied by the 2014 capacity factor. "]

{"sheet":"Biomass & Waste","index":15,"n_rows":40,"n_cols":8,"rows_kept":40,"cut":false,"hidden":false,"merged":[[3,1,3,6],[39,1,39,6]]}
[]
[null,"This sheet presents RMI's source data for biomass capacity and output.  "]
[]
[null,"BIOMASS & WASTE"]
[null,null,"Capacity","Cumulative","Cumulative ","Capacity","Electrical"]
[null,null,"additions","capacity (REN21)","capacity (BNEF)","factor","output (BNEF)*"]
[null,null,"(GW)","(GW)","(GW)",null,"(TWh/y)"]
[null,2000,1.4,{"$f":"D9-C9","v":30.810000000000002},38.664000000000001,0.7,{"$f":"E8*F8*8766/1000","v":237.25003679999998}]
[null,2001,1.54,{"$f":"D10-C10","v":32.35},39.405999999999999,0.7,{"$f":"(E8+(E9-E8)/4)*$F9*8766/10^3","v":238.38830189999999}]
[null,2002,1.65,34,41.405000000000001,0.7,244.86966314999998]
[null,2003,{"$f":"D11-D10","v":2.4142829120662483},{"$f":"D10*(D12/D10)^(1/2)","v":36.414282912066248},43.491999999999997,0.7,257.27092334999998]
[null,2004,{"$f":"D12-D11","v":2.5857170879337517},39,45.084000000000003,0.7,269.31781799999999]
[null,2005,{"$f":"D13-D12","v":2},41,51.052999999999997,0.7,285.80118525,"58.57."]
[null,2006,{"$f":"D14-D13","v":3},44,53.826000000000001,0.7,317.52533924999994]
[null,2007,4,48,56.345999999999997,0.7,334.15290720000002]
[null,2008,{"$f":"D16-D15","v":4},52,59.286000000000001,0.7,350.26043219999997]
[null,2009,2,54,64.884,0.7,{"$f":"(E16+(E17-E16)/4)*$F17*8766/10^3","v":372.3783651}]
[null,2010,3,62,72.289000000000001,0.7,409.50084104999996]
[null,2011,5.9,72,77.537999999999997,0.7,451.63199024999989]
[null,2012,9,83,84.861000000000004,0.7,487.02252375000006]
[null,2013,{"$f":"D21-D20","v":5},88,92.614000000000004,0.7,{"$f":"(E20+(E21-E20)/4)*$F21*8766/10^3","v":532.61755785000003}]
[null,2014,{"$f":"D22-D21","v":5},93,98.447000000000003,0.7,{"$f":"(E21+(E22-E21)/4)*$F22*8766/10^3","v":577.24614044999998}]
[null,2015,{"$f":"D23-D22","v":13},106,103.271,0.7,{"$f":"(E22+(E23-E22)/4)*$F23*8766/10^3","v":611.49073859999987}]
[null,2016,{"$f":"D24-D23","v":6},112,106.71,0.7,638.96710814999994]
[]
[null,"Note: Data in bold from respective sources; other data extrapolated."]
[]
[null,"Source Data"]
[null,"Capacity","IEA World Energy Outlook 2004, page 432"]
[null,null,"http://www.iea.org/textbase/nppdf/free/2004/weo2004.pdf"]
[]
[null,"Capacity","REN21 Global Status Report 2005-2017"]
[null,null,"http://www.ren21.net/status-of-renewables/global-status-report/"]
[]
[null,"Capacity","Bloomberg New Energy Finance (BNEF), 2017 database"]
[]
[null,"Capacity Factor","IEA 2004 World Energy Outlook, page 432"]
[null,null,"http://www.iea.org/textbase/nppdf/free/2004/weo2004.pdf"]
[]
[null,"*We no longer include the data from BP Statistical Review of World Energy for the electrical output for biomass & waste because in BP's 2017 edition, biomass is grouped with geothermal; additionally, BP's value for electrical output by \"Geothermal, Biomass, and Other\" is significantly lower than the BNEF value for biomass alone, so we believe that the BNEF value is more authoritative."]

{"sheet":"Cogeneration (CHP)","index":16,"n_rows":54,"n_cols":10,"rows_kept":54,"cut":false,"hidden":false,"merged":[[27,1,27,9]]}
[]
[null,"This sheet presents RMI's source data for cogeneration capacity and output.  "]
[]
[null,null,"Cumulative",">2009 capacity","≤2009 capacity","Non-biomass","Non-biomas","Capacity","Electrical output","Electrical output"]
[null,null,"capacity","additions","additions","percentage","cogeneration","factor","cogeneration","non-biomass cogen"]
[null,null,"(GW)","(GW)","(GW)",null,"(GW)",null,"(TWh/y)","(TWh/y)"]
[null,1999,{"$f":"C8-E8","v":215.81046346122861},null,null,{"$f":"F8-(F$20-F$12)/8","v":0.97875000000000012},{"$f":"C7*F7","v":211.22449111267753}]
[null,2000,{"$f":"C9-E9","v":228.96394417897821},null,13.1534807177496,{"$f":"F9-(F$20-F$12)/8","v":0.97500000000000009},223.23984557450376,0.82799999999999996,{"$f":"(C8-E8+E8/4)*8766*H8/10^3","v":1590.2736710746967},{"$f":"(G7+(G8-G7)/4)*8766*H8/1000","v":1554.9223457925698}]
[null,2001,243.93031557388991,null,14.966371394911709,{"$f":"F10-(F$20-F$12)/8","v":0.97125000000000006},236.91731900114058,0.82799999999999996,1689.0344987202739,{"$f":"(G8+(G9-G8)/4)*8766*H9/1000","v":1645.1487861974358}]
[null,2002,261.43031557388991,null,17.5,{"$f":"F11-(F$20-F$12)/8","v":0.96750000000000003},252.93383031773851,0.82799999999999996,1802.2615601535551,1748.6676096130589]
[null,2003,274.35231557388994,null,12.922000000000001,{"$f":"F12-(F$20-F$12)/8","v":0.96375},264.40704413433645,0.82799999999999996,1920.9738353175551,1856.6753258455385]
[null,2004,291.24431557388993,null,16.891999999999999,0.96,279.59454295093434,0.82799999999999996,2021.9687271135554,1946.6905575016026]
[null,2005,309.98531557388992,null,18.741,{"$f":"F12+(F$20-F$12)/8","v":0.95624999999999993},296.4234580175322,0.82799999999999996,2147.9301774675555,2059.9036419656095]
[null,2006,330,null,20.014684426110094,{"$f":"F13+(F$20-F$12)/8","v":0.9524999999999999},314.32499999999999,0.82799999999999996,2286.2681825951663,2183.9984291316277]
[null,2007,{"$f":"C14+E15","v":357.01161554343435},null,27.011615543434331,0.94874999999999987,338.71477024683327,0.82799999999999996,2444.2360911237251,2325.7055528786341]
[null,2008,{"$f":"C15+E16","v":383.64982391936439},null,26.638208375930059,0.94499999999999984,362.54908360379932,0.82799999999999996,2639.6155251619457,2501.7246430281803]
[null,2009,{"$f":"C16+E17","v":409.26253540512647},null,25.612711485762059,0.94124999999999981,385.21836145007524,0.82799999999999996,2831.1014201421058,2672.605971116403]
[null,2010,{"$f":"C17+D18","v":446.50909317181402},{"$f":"'CHP Source Data 2010–2016'!C25/1000","v":37.24655776668753},null,0.93749999999999978,418.60227484857552,0.82799999999999996,{"$f":"(C18-D18+D18/4)*8766*H18/10^3","v":3038.1151674334242},2856.5875822224948]
[null,2011,483.90127073187625,{"$f":"'CHP Source Data 2010–2016'!C48/1000","v":37.392177560062223},null,0.93374999999999975,451.84281154588933,0.82799999999999996,3308.7241569938737,3098.636138965674]
[null,2012,520.79353449759139,{"$f":"'CHP Source Data 2010–2016'!C71/1000","v":36.892263765715178},null,0.93,{"$f":"F20*C20","v":484.33798708276004},0.82799999999999996,3579.2187304103422,3338.5516939298632]
[null,2013,564.47954620397741,{"$f":"'CHP Source Data 2010–2016'!C94/1000","v":43.686011706386019},null,0.93,{"$f":"F21*C21","v":524.965977969699},0.82799999999999996,3859.3196069540372,3589.1672344672543]
[null,2014,604.29323042400017,{"$f":"'CHP Source Data 2010–2016'!C117/1000","v":39.8136842200228},null,0.93,{"$f":"F22*C22","v":561.99270429432022},0.82799999999999996,4169.3769357415795,{"$f":"(G21+(G22-G21)/4)*8766*H22/1000","v":3877.5205502396693}]
[null,2015,{"$f":"C22+D23","v":646.20252983233365},{"$f":"'CHP Source Data 2010–2016'!C139/1000","v":41.909299408333496},null,0.93,{"$f":"F23*C23","v":600.96835274407033},0.82799999999999996,{"$f":"(C23-D23+D23/4)*8766*H23/10^3","v":4462.1571532915223},4149.8061525611174]
[null,2016,679.68894558208535,{"$f":"'CHP Source Data 2010–2016'!C161/1000","v":33.486415749751735},null,0.93,{"$f":"F24*C24","v":632.11071939133944},0.82799999999999996,4751.0613972861765,4418.4870994761459]
[]
[null,"Note: Data in bold from respective sources; other data extrapolated."]
[]
[null,"Source Data"]
[null,"Historical","IEA, Combined Heat and Power: Evaluating the Benefits of Greater Global Investment"]
[null,null,"http://www.localpower.org/documents/reporto_iea_chpwademodel.pdf"]
[null,null,"P. 18"]
[]
[null,"Capacity","RMI analysis employing the World Alliance For Decentralized Energy (WADE http://www.localpower.org/)"]
[null,null,"methodology, based on Diesel and Gas Turbine World Wide Power Generation Survey 2007-2010"]
[]
[null,"Capacity","WADE, World Survey of Decentralized Energy (2006) "]
[null,null,"http://www.localpower.org/pages/wadereports.htm"]
[]
[null,"Capacity","Diesel & Gas Turbine Worldwide, Annual Power Generation Order Survey"]
[null,null,"http://www.dieselgasturbine.com/Market-Surveys/"]
[]
[null,"Capacity Factor","Brown, Michael. Director of WADE. Personal Communications. June 2005. 7,250 operational hours per year. Confirmed in June 2014 w/ Brent Haight."]
[]
[]
[]
[]
[]
[]
[]
[]
[]
[]
[]
[null,null,null," "]

{"sheet":"CHP Source Data 2010–2016","index":17,"n_rows":161,"n_cols":15,"rows_kept":161,"cut":false,"hidden":false,"merged":[]}
[]
[null,"This sheet transcribes cogeneration data from the 2010–2016 Diesel and Gas Turbine Worldwide Power Generation Surveys and illustrates the non-proprietary data that underlie RMI's cogeneration analysis."]
[]
[null,"Diesel and Gas Turbine Worldwide Power Generation Survey"]
[null,"http://dieselgasturbine.com/market-surveys/"]
[]
[null,"2010 reciprocating engines",null,null,null,null,null,"2010 gas turbine",null,null,null,null,null,"2010 steam turbine (all continuous)"]
[]
[null,"Output range (MW)","Total output (MWe)","% Counted","% Continuous","MW counted",null,"Output range","Total output (MWe)","% Counted","% Continuous","MW counted",null,{"$f":"12812-((1/23)*398)","v":12794.695652173914},"MW"]
[null,"0.50-1.00",13457,1,{"$f":"7575/17674","v":0.42859567726604053},{"$f":"E10*D10*C10","v":5767.6120289691071},null,"1.00-2.00",100,1,{"$f":"19/(61+19)","v":0.23749999999999999},{"$f":"K10*J10*I10","v":23.75}]
[null,"1.01-2.00",14361,1,{"$f":"4452/9949","v":0.44748215901095589},{"$f":"E11*D11*C11","v":6426.2912855563372},null,"2.01-3.50",114,1,{"$f":"10/40","v":0.25},{"$f":"K11*J11*I11","v":28.5}]
[null,"2.01-3.50",4501,1,{"$f":"760/1791","v":0.42434394193188163},1909.9720826353991,null,"3.51-5.00",272,1,{"$f":"34/64","v":0.53125},144.5]
[null,"3.51-5.00",634,1,{"$f":"115/149","v":0.77181208053691275},489.32885906040269,null,"5.01-7.50",509,1,{"$f":"88/88","v":1},509]
[null,"5.01-7.50",542,1,{"$f":"62/92","v":0.67391304347826086},365.26086956521738,null,"7.51-10.00",403,1,{"$f":"50/50","v":1},403]
[null,"7.51-10.00",3155,1,{"$f":"206/347","v":0.59365994236311237},1872.9971181556195,null,"10.01-15.00",1849,1,{"$f":"129/131","v":0.98473282442748089},1820.7709923664122]
[null,"10.01-15.00",439,1,{"$f":"34/34","v":1},439,null,"15.01-20.00",64,1,{"$f":"4/4","v":1},64]
[null,"15.01-20.00",1127,1,{"$f":"64/64","v":1},1127,null,"20.01-30.00",503,1,{"$f":"12/13","v":0.92307692307692313},464.30769230769232]
[null,"20.01-30.00",367,0.6,{"$f":"0","v":0},0,null,"30.01-60.00",1843,0.75,{"$f":"49/49","v":1},1382.25]
[null,"30.01 and above",43,0.6,{"$f":"1","v":1},25.8,null,"60.01-120.00",3320,0.1,{"$f":"31/39","v":0.79487179487179482},263.89743589743586]
[null,null,null,null,null,null,null,"120.01-180.00",9061,0.05,{"$f":"29/65","v":0.44615384615384618},202.13000000000002]
[null,null,null,null,null,null,null,"180.01 and above",14916,0.05,{"$f":"62/64","v":0.96875},722.49374999999998]
[]
[null,null,null,null,"SUM",{"$f":"SUM(F10:F19)","v":18423.262243942081},null,null,null,null,"SUM",{"$f":"SUM(L10:L21)","v":6028.5998705715401}]
[]
[null,"2010 TOTAL",{"$f":"F23+L23+N9","v":37246.557766687532},"MW"]
[]
[]
[]
[]
[null,"2011 reciprocating engines",null,null,null,null,null,"2011 gas turbine",null,null,null,null,null,"2011 steam turbine (all continuous)"]
[]
[null,"Output range","Total output (MWe)","% Counted","% Continuous","MW counted",null,"Output range","Total output (MWe)","% Counted","% Continuous","MW counted",null,{"$f":"6773","v":6773},"MW"]
[null,"0.50-1.00",13100,1,{"$f":"7570/13100","v":0.5778625954198473},{"$f":"E33*D33*C33","v":7570},null,"1.00-2.00",161,1,{"$f":"24/118","v":0.20338983050847459},{"$f":"K33*J33*I33","v":32.745762711864408}]
[null,"1.01-2.00",21231,1,{"$f":"6237/15052","v":0.41436353972893969},{"$f":"E34*D34*C34","v":8797.3523119851179},null,"2.01-3.50",152,1,{"$f":"12/54","v":0.22222222222222221},{"$f":"K34*J34*I34","v":33.777777777777779}]
[null,"2.01-3.50",6329,1,{"$f":"882/2556","v":0.34507042253521125},2183.9507042253522,null,"3.51-5.00",274,1,{"$f":"29/67","v":0.43283582089552236},118.59701492537313]
[null,"3.51-5.00",1826,1,{"$f":"421/427","v":0.98594847775175642},1800.3419203747073,null,"5.01-7.50",278,1,{"$f":"44/47","v":0.93617021276595747},260.25531914893617]
[null,"5.01-7.50",616,1,{"$f":"81/99","v":0.81818181818181823},504.00000000000006,null,"7.51-10.00",353,1,{"$f":"44/45","v":0.97777777777777775},345.15555555555557]
[null,"7.51-10.00",2562,1,{"$f":"248/279","v":0.88888888888888884},2277.333333333333,null,"10.01-15.00",1176,1,{"$f":"1","v":1},1176]
[null,"10.01-15.00",168,1,{"$f":"13/13","v":1},168,null,"15.01-20.00",81,1,{"$f":"1","v":1},81]
[null,"15.01-20.00",1655,1,{"$f":"1","v":1},1655,null,"20.01-30.00",232,1,{"$f":"9/9","v":1},232]
[null,"20.01-30.00",92,0.6,1,55.199999999999996,null,"30.01-60.00",3549,0.75,{"$f":"77/98","v":0.7857142857142857},2091.375]
[null,"30.01 and above",81,0.6,{"$f":"1","v":1},48.6,null,"60.01-120.00",5484,0.1,{"$f":"51/67","v":0.76119402985074625},417.4388059701493]
[null,null,null,null,null,null,null,"120.01-180.00",5617,0.05,{"$f":"26/37","v":0.70270270270270274},197.35405405405407]
[null,null,null,null,null,null,null,"180.01 and above",11474,0.05,{"$f":"1","v":1},573.70000000000005]
[]
[null,null,null,null,"SUM",{"$f":"SUM(F33:F42)","v":25059.778269918508},null,null,null,null,"SUM",{"$f":"SUM(L33:L44)","v":5559.3992901437105}]
[]
[null,"2011 TOTAL",{"$f":"F46+L46+N32","v":37392.17756006222},"MW"]
[]
[]
[]
[]
[null,"2012 reciprocating engines",null,null,null,null,null,"2012 gas turbine",null,null,null,null,null,"2012 steam turbine (all continuous)"]
[]
[null,"Output range","Total output (MWe)","% Counted","% Continuous","MW counted",null,"Output range","Total output (MWe)","% Counted","% Continuous","MW counted",null,11895,"MW"]
[null,"0.50-1.00",13280,1,{"$f":"7991/17636","v":0.45310728056248584},{"$f":"E56*D56*C56","v":6017.2646858698117},null,"1.00-2.00",179,1,{"$f":"34/130","v":0.26153846153846155},{"$f":"K56*J56*I56","v":46.815384615384616}]
[null,"1.01-2.00",16097,1,{"$f":"6307/11125","v":0.56692134831460672},{"$f":"E57*D57*C57","v":9125.732943820225},null,"2.01-3.50",91,1,{"$f":"6/31","v":0.19354838709677419},{"$f":"K57*J57*I57","v":17.612903225806452}]
[null,"2.01-3.50",6035,1,{"$f":"1187/2428","v":0.48887973640856675},2950.3892092257001,null,"3.51-5.00",283,1,{"$f":"31/68","v":0.45588235294117646},129.01470588235293]
[null,"3.51-5.00",546,1,{"$f":"96/129","v":0.7441860465116279},406.32558139534882,null,"5.01-7.50",410,1,{"$f":"65/68","v":0.95588235294117652},391.91176470588238]
[null,"5.01-7.50",473,1,{"$f":"45/83","v":0.54216867469879515},256.4457831325301,null,"7.51-10.00",107,1,{"$f":"1","v":1},107]
[null,"7.51-10.00",1627,1,{"$f":"131/178","v":0.7359550561797753},1197.3988764044943,null,"10.01-15.00",829,1,{"$f":"1","v":1},829]
[null,"10.01-15.00",35,1,{"$f":"3/3","v":1},35,null,"15.01-20.00",32,1,{"$f":"1","v":1},32]
[null,"15.01-20.00",2009,1,{"$f":"113/113","v":1},2009,null,"20.01-30.00",71,1,{"$f":"1","v":1},71]
[null,"20.01-30.00",0,0.6,{"$f":"0","v":0},0,null,"30.01-60.00",1632,0.75,{"$f":"47/49","v":0.95918367346938771},1174.0408163265306]
[null,"30.01 and above",0,0.6,{"$f":"1","v":1},0,null,"60.01-120.00",611,0.1,{"$f":"8/9","v":0.88888888888888884},54.31111111111111]
[null,null,null,null,null,null,null,"120.01-180.00",810,0.05,{"$f":"1","v":1},40.5]
[null,null,null,null,null,null,null,"180.01 and above",2130,0.05,{"$f":"1","v":1},106.5]
[]
[null,null,null,null,"SUM",{"$f":"SUM(F56:F65)","v":21997.557079848109},null,null,null,null,"SUM",{"$f":"SUM(L56:L67)","v":2999.7066858670682}]
[]
[null,"2012 TOTAL",{"$f":"F69+L69+N55","v":36892.263765715179},"MW"]
[]
[]
[]
[]
[null,"2013 reciprocating engines",null,null,null,null,null,"2013 gas turbine",null,null,null,null,null,"2013 steam turbine (all continuous)"]
[]
[null,"Output range","Total output (MWe)","% Counted","% Continuous","MW counted",null,"Output range","Total output (MWe)","% Counted","% Continuous","MW counted",null,{"$f":"16707","v":16707},"MW"]
[null,"0.50-1.00",13335,1,{"$f":"8297/18090","v":0.45865118850193476},{"$f":"E79*D79*C79","v":6116.1135986732997},null,"1.00-2.00",158,1,{"$f":"21/181","v":0.11602209944751381},{"$f":"K79*J79*I79","v":18.33149171270718}]
[null,"1.01-2.00",15407,1,{"$f":"4820/10635","v":0.45322049835448991},{"$f":"E80*D80*C80","v":6982.7682181476257},null,"2.01-3.50",109,1,{"$f":"5/40","v":0.125},{"$f":"K80*J80*I80","v":13.625}]
[null,"2.01-3.50",6260,1,{"$f":"860/2485","v":0.34607645875251508},2166.4386317907442,null,"3.51-5.00",166,1,{"$f":"15/41","v":0.36585365853658536},60.731707317073166]
[null,"3.51-5.00",834,1,{"$f":"183/196","v":0.93367346938775508},778.68367346938771,null,"5.01-7.50",295,1,{"$f":"42/50","v":0.84},247.79999999999998]
[null,"5.01-7.50",1363,1,{"$f":"103/142","v":0.72535211267605637},988.65492957746483,null,"7.51-10.00",346,1,{"$f":"1","v":1},346]
[null,"7.51-10.00",1667,1,{"$f":"172/179","v":0.96089385474860334},1601.8100558659219,null,"10.01-15.00",386,1,{"$f":"29/30","v":0.96666666666666667},373.13333333333333]
[null,"10.01-15.00",127,1,{"$f":"3/3","v":1},127,null,"15.01-20.00",689,1,{"$f":"43/44","v":0.97727272727272729},673.34090909090912]
[null,"15.01-20.00",1330,1,{"$f":"113/113","v":1},1330,null,"20.01-30.00",992,1,{"$f":"33/40","v":0.82499999999999996},818.4]
[null,"20.01-30.00",63,0.6,{"$f":"3/3","v":1},37.799999999999997,null,"30.01-60.00",6901,0.75,{"$f":"133/164","v":0.81097560975609762},4197.4070121951227]
[null,"30.01 and above",0,0.6,{"$f":"1","v":1},0,null,"60.01-120.00",1672,0.1,{"$f":"0","v":0},0]
[null,null,null,null,null,null,null,"120.01-180.00",5588,0.05,{"$f":"12/38","v":0.31578947368421051},88.231578947368419]
[null,null,null,null,null,null,null,"180.01 and above",21151,0.05,{"$f":"1/83","v":1.2048192771084338E-2},12.741566265060243]
[]
[null,null,null,null,"SUM",{"$f":"SUM(F79:F88)","v":20129.269107524444},null,null,null,null,"SUM",{"$f":"SUM(L79:L90)","v":6849.7425988615742}]
[]
[null,"2013 TOTAL",{"$f":"F92+L92+N78","v":43686.011706386016},"MW"]
[]
[]
[]
[]
[null,"2014 reciprocating engines",null,null,null,null,null,"2014 gas turbine",null,null,null,null,null,"2014 steam turbine (all continuous)"]
[]
[null,"Output range","Total output (MWe)","% Counted","% Continuous","MW counted",null,"Output range","Total output (MWe)","% Counted","% Continuous","MW counted",null,{"$f":"15062","v":15062},"MW"]
[null,"0.50-1.00",12746,1,{"$f":"7905/17417","v":0.45386691163805476},{"$f":"E102*D102*C102","v":5784.987655738646},null,"1.00-2.00",140,1,0.15384615384615385,{"$f":"K102*J102*I102","v":21.53846153846154}]
[null,"1.01-2.00",16054,1,{"$f":"6771/11047","v":0.61292658640354847},{"$f":"E103*D103*C103","v":9839.9234181225675},null,"2.01-3.50",104,1,5.2631578947368418E-2,{"$f":"K103*J103*I103","v":5.473684210526315}]
[null,"2.01-3.50",6342,1,{"$f":"789/2627","v":0.30034259611724401},1904.7727445755615,null,"3.51-5.00",220,1,0.18867924528301888,41.509433962264154]
[null,"3.51-5.00",745,1,{"$f":"168/187","v":0.89839572192513373},669.30481283422466,null,"5.01-7.50",423,1,0.92753623188405798,392.3478260869565]
[null,"5.01-7.50",296,1,{"$f":"40/67","v":0.59701492537313428},176.71641791044775,null,"7.51-10.00",291,1,0.94444444444444442,274.83333333333331]
[null,"7.51-10.00",1687,1,{"$f":"157/184","v":0.85326086956521741},1439.4510869565217,null,"10.01-15.00",175,1,0.5714285714285714,100]
[null,"10.01-15.00",168,1,{"$f":"12/12","v":1},168,null,"15.01-20.00",609,1,1,609]
[null,"15.01-20.00",1076,1,1,1076,null,"20.01-30.00",239,1,1,239]
[null,"20.01-30.00",67,0.6,1,40.199999999999996,null,"30.01-60.00",2322,0.75,0.44230769230769229,770.27884615384608]
[null,"30.01 and above",47,0.6,1,28.2,null,"60.01-120.00",804,0.1,1,80.400000000000006]
[null,null,null,null,null,null,null,"120.01-180.00",5890,0.05,0.90476190476190477,266.45238095238096]
[null,null,null,null,null,null,null,"180.01 and above",27992,0.05,0.58823529411764708,823.2941176470589]
[]
[null,null,null,null,"SUM",{"$f":"SUM(F102:F111)","v":21127.55613613797},null,null,null,null,"SUM",{"$f":"SUM(L102:L113)","v":3624.1280838848284}]
[]
[null,"2014 TOTAL",{"$f":"F115+L115+N101","v":39813.684220022798},"MW"]
[]
[]
[]
[null,"2015 reciprocating engines",null,null,null,null,null,"2015 gas turbine",null,null,null,null,null,"2015 steam turbine (all continuous)"]
[]
[null,"Output range","Total output (MWe)","% Counted","% Continuous","MW counted",null,"Output range","Total output (MWe)","% Counted","% Continuous","MW counted",null,"Output range","Total output (MWe)"]
[null,"0.50-1.00",11171,1,{"$f":"6991/15646","v":0.44682346925731814},{"$f":"E124*D124*C124","v":4991.4649750735007},null,"1.00-2.00",162,1,{"$f":"28/111","v":0.25225225225225223},{"$f":"K124*J124*I124","v":40.864864864864863},null,"0.0-1.00",2645]
[null,"1.01-2.00",17538,1,{"$f":"7192/12355","v":0.58211250505868073},{"$f":"E125*D125*C125","v":10209.089113719143},null,"2.01-3.50",118,1,{"$f":"8/40","v":0.2},{"$f":"K125*J125*I125","v":23.6},null,"1.01-5.00",36923]
[null,"2.01-3.50",7088,1,{"$f":"860/2883","v":0.29830038154699967},{"$f":"E126*D126*C126","v":2114.3531044051338},null,"3.51-5.00",175,1,{"$f":"7/43","v":0.16279069767441862},28.488372093023258,null,"5.01-10.00",6624]
[null,"3.51-5.00",674,1,{"$f":"129/159","v":0.81132075471698117},546.83018867924534,null,"5.01-7.50",235,1,{"$f":"33/40","v":0.82499999999999996},{"$f":"K127*J127*I127","v":193.875},null,"10.01-30.00",234]
[null,"5.01-7.50",384,1,{"$f":"40/64","v":0.625},240,null,"7.51-10.00",221,1,{"$f":"26/28","v":0.9285714285714286},205.21428571428572,null,"30.01-60.00",1214]
[null,"7.51-10.00",1286,1,{"$f":"137/137","v":1},1286,null,"10.01-15.00",140,1,{"$f":"11/11","v":1},140,null,"60.01-120.00",136]
[null,"10.01-15.00",75,1,{"$f":"6/7","v":0.8571428571428571},64.285714285714278,null,"15.01-20.00",205,1,{"$f":"12/13","v":0.92307692307692313},189.23076923076925,null,"120.01-200.00",2152]
[null,"15.01-20.00",1339,1,{"$f":"74/74","v":1},1339,null,"20.01-30.00",608,1,{"$f":"21/22","v":0.95454545454545459},580.36363636363637,null,"200.01-300.00",6264]
[null,"20.01-30.00",0,0.6,0,0,null,"30.01-60.00",4249,0.75,{"$f":"91/109","v":0.83486238532110091},{"$f":"K132*J132*I132","v":2660.4977064220184},null,"300.01-500.00",5299]
[null,"30.01 and above",0,0.6,0,0,null,"60.01-120.00",3898,0.1,{"$f":"34/46","v":0.73913043478260865},288.11304347826086,null,"500.01-700.00",11640]
[null,null,null,null,null,null,null,"120.01-180.00",3625,0.05,{"$f":"19/23","v":0.82608695652173914},149.72826086956525,null,"700.01-1000.00",0]
[null,null,null,null,null,null,null,"180.01 and above",38265,0.05,{"$f":"109/134","v":0.81343283582089554},1556.3003731343285,null,"1000.00 and above",1070]
[]
[null,null,null,null,"SUM",{"$f":"SUM(F124:F133)","v":20791.023096162739},null,null,null,null,"SUM",{"$f":"SUM(L124:L135)","v":6056.276312170753},null,"SUM",{"$f":"SUM(O124:O135)","v":74201}]
[]
[null,"2015 TOTAL*",{"$f":"F137+L137+N101","v":41909.299408333492},"MW"]
[null,"*Note: We use the 2014 steam-turbine data in calculating the total for 2015 because output ranges other than 10.01-30.00 and 30.01-60 seem anomalous compared to previous years' data. "]
[]
[]
[null,"2016 reciprocating engines",null,null,null,null,null,"2016 gas turbine",null,null,null,null,null,"2016 steam turbine (all continuous)"]
[]
[null,"Output range","Total output (MWe)","% Counted","% Continuous","MW counted",null,"Output range","Total output (MWe)","% Counted","% Continuous","MW counted",null,"Output range","Total output (MWe)"]
[null,"0.50-1.00",7806,1,{"$f":"3940/(6800+188+3940)","v":0.36054172767203513},{"$f":"C146*D146*E146","v":2814.3887262079061},null,"1.00-2.00",86,1,{"$f":"7/67","v":0.1044776119402985},{"$f":"I146*J146*K146","v":8.9850746268656714},null,"0.0-1.00",2]
[null,"1.01-2.00",15529,1,{"$f":"4419/(4419+358+6300)","v":0.3989347296199332},{"$f":"C147*D147*E147","v":6195.0574162679432},null,"2.01-3.50",125,1,{"$f":"6/47","v":0.1276595744680851},{"$f":"I147*J147*K147","v":15.957446808510637},null,"1.01-5.00",19]
[null,"2.01-3.50",6896,1,{"$f":"578/(578+207+1976)","v":0.20934444042013764},1443.6392611372692,null,"3.51-5.00",176,1,{"$f":"10/47","v":0.21276595744680851},37.446808510638299,null,"5.01-10.00",42]
[null,"3.51-5.00",1047,1,{"$f":"193/(193+47)","v":0.8041666666666667},841.96249999999998,null,"5.01-7.50",293,1,{"$f":"46/48","v":0.95833333333333337},280.79166666666669,null,"10.01-30.00",155]
[null,"5.01-7.50",284,1,{"$f":"41/47","v":0.87234042553191493},247.74468085106383,null,"7.51-10.00",214,1,{"$f":"17/17","v":1},214,null,"30.01-60.00",562]
[null,"7.51-10.00",893,1,{"$f":"95/97","v":0.97938144329896903},874.58762886597935,null,"10.01-15.00",243,1,{"$f":"18/19","v":0.94736842105263153},230.21052631578945,null,"60.01-120.00",490]
[null,"10.01-15.00",244,1,{"$f":"18/18","v":1},244,null,"15.01-20.00",286,1,{"$f":"11/12","v":0.91666666666666663},262.16666666666663,null,"120.01-200.00",2737]
[null,"15.01-20.00",2566,1,{"$f":"141/141","v":1},2566,null,"20.01-30.00",302,1,{"$f":"12/12","v":1},302,null,"200.01-300.00",2423]
[null,"20.01-30.00",0,0.6,0,0,null,"30.01-60.00",5800,0.75,{"$f":"75/(75+57)","v":0.56818181818181823},2471.5909090909095,null,"300.01-500.00",1137]
[null,"30.01 and above",0,0.6,0,0,null,"60.01-120.00",1719,0.1,{"$f":"17/19","v":0.89473684210526316},153.80526315789476,null,"500.01-700.00",594]
[null,null,null,null,null,null,null,"120.01-180.00",601,0.05,{"$f":"6/11","v":0.54545454545454541},16.390909090909091,null,"700.01-1000.00",4325]
[null,null,null,null,null,null,null,"180.01 and above",36266,0.05,{"$f":"100/113","v":0.88495575221238942},1604.6902654867258,null,"1000.00 and above",175]
[]
[null,null,null,null,"SUM",{"$f":"SUM(F146:F155)","v":15227.38021333016},null,null,null,null,"SUM",{"$f":"SUM(L146:L157)","v":5598.0355364215766},null,"SUM",{"$f":"SUM(O146:O157)","v":12661}]
[]
[null,"2016 TOTAL",{"$f":"F159+L159+O159","v":33486.415749751737},"MW"]